BEGIN:VCALENDAR
VERSION:2.0
PRODID:-//Messalonskee High - ECPv6.14.2//NONSGML v1.0//EN
CALSCALE:GREGORIAN
METHOD:PUBLISH
X-ORIGINAL-URL:https://mhs.rsu18.org
X-WR-CALDESC:Events for Messalonskee High
REFRESH-INTERVAL;VALUE=DURATION:PT1H
X-Robots-Tag:noindex
X-PUBLISHED-TTL:PT1H
BEGIN:VTIMEZONE
TZID:America/New_York
BEGIN:DAYLIGHT
TZOFFSETFROM:-0500
TZOFFSETTO:-0400
TZNAME:EDT
DTSTART:20260308T070000
END:DAYLIGHT
BEGIN:STANDARD
TZOFFSETFROM:-0400
TZOFFSETTO:-0500
TZNAME:EST
DTSTART:20261101T060000
END:STANDARD
END:VTIMEZONE
BEGIN:VEVENT
DTSTART;VALUE=DATE:20260512
DTEND;VALUE=DATE:20260513
DTSTAMP:20260423T194522
CREATED:20250711T164545Z
LAST-MODIFIED:20260423T231612Z
UID:10000584-1778544000-1778630399@mhs.rsu18.org
SUMMARY:Early Release
DESCRIPTION:
URL:https://mhs.rsu18.org/event/early-release-3/
END:VEVENT
BEGIN:VEVENT
DTSTART;VALUE=DATE:20260525
DTEND;VALUE=DATE:20260526
DTSTAMP:20260423T194522
CREATED:20250711T164545Z
LAST-MODIFIED:20260423T231612Z
UID:10000585-1779667200-1779753599@mhs.rsu18.org
SUMMARY:No School - Memorial Day
DESCRIPTION:
URL:https://mhs.rsu18.org/event/no-school-memorial-day/
END:VEVENT
BEGIN:VEVENT
DTSTART;TZID=America/New_York:20260531T130000
DTEND;TZID=America/New_York:20260531T140000
DTSTAMP:20260423T194522
CREATED:20250711T174236Z
LAST-MODIFIED:20260423T231612Z
UID:10000601-1780232400-1780236000@mhs.rsu18.org
SUMMARY:Baccalaureate - Class of 2026
DESCRIPTION:
URL:https://mhs.rsu18.org/event/baccalaureate-class-of-2026/
END:VEVENT
BEGIN:VEVENT
DTSTART;TZID=America/New_York:20260531T140000
DTEND;TZID=America/New_York:20260531T160000
DTSTAMP:20260423T194522
CREATED:20250711T174236Z
LAST-MODIFIED:20260423T231612Z
UID:10000602-1780236000-1780243200@mhs.rsu18.org
SUMMARY:Class of 2026 Awards/Scholarships Ceremony
DESCRIPTION:Invitations will be mailed home prior to May 28th
URL:https://mhs.rsu18.org/event/class-of-2026-awards-scholarships-ceremony/
END:VEVENT
BEGIN:VEVENT
DTSTART;TZID=America/New_York:20260604T190000
DTEND;TZID=America/New_York:20260604T200000
DTSTAMP:20260423T194522
CREATED:20250711T174236Z
LAST-MODIFIED:20260423T231612Z
UID:10000603-1780599600-1780603200@mhs.rsu18.org
SUMMARY:Graduation - MHS Class of 2026
DESCRIPTION:Augusta Civic Center – information will be mailed home in early May.
URL:https://mhs.rsu18.org/event/graduation-mhs-class-of-2026/
END:VEVENT
BEGIN:VEVENT
DTSTART;VALUE=DATE:20260612
DTEND;VALUE=DATE:20260613
DTSTAMP:20260423T194522
CREATED:20260419T222930Z
LAST-MODIFIED:20260423T231612Z
UID:10000625-1781222400-1781308799@mhs.rsu18.org
SUMMARY:Last Day of School - Early Release
DESCRIPTION:
URL:https://mhs.rsu18.org/event/last-day-of-school-early-release-2/
END:VEVENT
END:VCALENDAR