BEGIN:VCALENDAR
VERSION:2.0
PRODID:-//Messalonskee High - ECPv6.14.2//NONSGML v1.0//EN
CALSCALE:GREGORIAN
METHOD:PUBLISH
X-WR-CALNAME:Messalonskee High
X-ORIGINAL-URL:https://mhs.rsu18.org
X-WR-CALDESC:Events for Messalonskee High
REFRESH-INTERVAL;VALUE=DURATION:PT1H
X-Robots-Tag:noindex
X-PUBLISHED-TTL:PT1H
BEGIN:VTIMEZONE
TZID:America/New_York
BEGIN:DAYLIGHT
TZOFFSETFROM:-0500
TZOFFSETTO:-0400
TZNAME:EDT
DTSTART:20250309T070000
END:DAYLIGHT
BEGIN:STANDARD
TZOFFSETFROM:-0400
TZOFFSETTO:-0500
TZNAME:EST
DTSTART:20251102T060000
END:STANDARD
END:VTIMEZONE
BEGIN:VEVENT
DTSTART;VALUE=DATE:20250611
DTEND;VALUE=DATE:20250612
DTSTAMP:20260424T093304
CREATED:20250609T144244Z
LAST-MODIFIED:20250611T234324Z
UID:10000567-1749600000-1749686399@mhs.rsu18.org
SUMMARY:Early Release - MHS ONLY / Finals
DESCRIPTION:
URL:https://mhs.rsu18.org/event/early-release-mhs-only-finals/
END:VEVENT
BEGIN:VEVENT
DTSTART;TZID=America/New_York:20250605T190000
DTEND;TZID=America/New_York:20250605T200000
DTSTAMP:20260424T093304
CREATED:20250530T143024Z
LAST-MODIFIED:20250605T233035Z
UID:10000565-1749150000-1749153600@mhs.rsu18.org
SUMMARY:Graduation - Class of 2025
DESCRIPTION:
URL:https://mhs.rsu18.org/event/graduation-class-of-2025/
END:VEVENT
BEGIN:VEVENT
DTSTART;TZID=America/New_York:20250602T180000
DTEND;TZID=America/New_York:20250602T190000
DTSTAMP:20260424T093304
CREATED:20250530T143024Z
LAST-MODIFIED:20250602T225952Z
UID:10000564-1748887200-1748890800@mhs.rsu18.org
SUMMARY:Senior Parade
DESCRIPTION:
URL:https://mhs.rsu18.org/event/senior-parade/
END:VEVENT
BEGIN:VEVENT
DTSTART;TZID=America/New_York:20250601T140000
DTEND;TZID=America/New_York:20250601T150000
DTSTAMP:20260424T093304
CREATED:20250530T143024Z
LAST-MODIFIED:20250601T185902Z
UID:10000563-1748786400-1748790000@mhs.rsu18.org
SUMMARY:SENIOR AWARDS BANQUET
DESCRIPTION:Invitations were mailed mid-May.
URL:https://mhs.rsu18.org/event/senior-awards-banquet/
END:VEVENT
BEGIN:VEVENT
DTSTART;TZID=America/New_York:20250601T130000
DTEND;TZID=America/New_York:20250601T140000
DTSTAMP:20260424T093304
CREATED:20250530T143023Z
LAST-MODIFIED:20250601T175857Z
UID:10000562-1748782800-1748786400@mhs.rsu18.org
SUMMARY:BACCALAUREATE
DESCRIPTION:
URL:https://mhs.rsu18.org/event/baccalaureate/
END:VEVENT
BEGIN:VEVENT
DTSTART;VALUE=DATE:20250526
DTEND;VALUE=DATE:20250527
DTSTAMP:20260424T093304
CREATED:20250326T150844Z
LAST-MODIFIED:20250526T235744Z
UID:10000559-1748217600-1748303999@mhs.rsu18.org
SUMMARY:NO SCHOOL - HOLIDAY
DESCRIPTION:
URL:https://mhs.rsu18.org/event/no-school-holiday/
END:VEVENT
BEGIN:VEVENT
DTSTART;TZID=America/New_York:20250521T183000
DTEND;TZID=America/New_York:20250521T203000
DTSTAMP:20260424T093304
CREATED:20250326T150843Z
LAST-MODIFIED:20250522T001613Z
UID:10000558-1747852200-1747859400@mhs.rsu18.org
SUMMARY:MHS Band and Chorus Concert + Music Awards
DESCRIPTION:
URL:https://mhs.rsu18.org/event/mhs-band-and-chorus-concert-music-awards/
END:VEVENT
BEGIN:VEVENT
DTSTART;VALUE=DATE:20250513
DTEND;VALUE=DATE:20250514
DTSTAMP:20260424T093304
CREATED:20250326T150843Z
LAST-MODIFIED:20250513T231229Z
UID:10000557-1747094400-1747180799@mhs.rsu18.org
SUMMARY:EARLY RELEASE
DESCRIPTION:
URL:https://mhs.rsu18.org/event/early-release/
END:VEVENT
BEGIN:VEVENT
DTSTART;TZID=America/New_York:20250510T200000
DTEND;TZID=America/New_York:20250510T230000
DTSTAMP:20260424T093304
CREATED:20250429T175800Z
LAST-MODIFIED:20250511T020056Z
UID:10000561-1746907200-1746918000@mhs.rsu18.org
SUMMARY:MHS Junior / Senior Prom 2025
DESCRIPTION:For more information\, please call our main office.
URL:https://mhs.rsu18.org/event/mhs-junior-senior-prom-2025/
END:VEVENT
BEGIN:VEVENT
DTSTART;VALUE=DATE:20250418
DTEND;VALUE=DATE:20250419
DTSTAMP:20260424T093304
CREATED:20250326T150843Z
LAST-MODIFIED:20250418T235928Z
UID:10000555-1744934400-1745020799@mhs.rsu18.org
SUMMARY:NO SCHOOL - TEACHER COMP DAY
DESCRIPTION:
URL:https://mhs.rsu18.org/event/no-school-teacher-comp-day/
END:VEVENT
BEGIN:VEVENT
DTSTART;VALUE=DATE:20250417
DTEND;VALUE=DATE:20250418
DTSTAMP:20260424T093304
CREATED:20250326T150843Z
LAST-MODIFIED:20250417T230015Z
UID:10000556-1744848000-1744934399@mhs.rsu18.org
SUMMARY:MHS Day of Caring
DESCRIPTION:
URL:https://mhs.rsu18.org/event/mhs-day-of-caring/
END:VEVENT
BEGIN:VEVENT
DTSTART;VALUE=DATE:20250404
DTEND;VALUE=DATE:20250405
DTSTAMP:20260424T093304
CREATED:20250404T123135Z
LAST-MODIFIED:20250404T231545Z
UID:10000560-1743724800-1743811199@mhs.rsu18.org
SUMMARY:MHS - End of Quarter 3
DESCRIPTION:
URL:https://mhs.rsu18.org/event/mhs-end-of-quarter-3/
END:VEVENT
BEGIN:VEVENT
DTSTART;TZID=America/New_York:20250326T190000
DTEND;TZID=America/New_York:20250326T210000
DTSTAMP:20260424T093304
CREATED:20250326T150843Z
LAST-MODIFIED:20250327T000040Z
UID:10000554-1743015600-1743022800@mhs.rsu18.org
SUMMARY:MHS and MMS Chorus Concert
DESCRIPTION:
URL:https://mhs.rsu18.org/event/mhs-and-mms-chorus-concert/
END:VEVENT
END:VCALENDAR