BEGIN:VCALENDAR
VERSION:2.0
PRODID:-//Messalonskee High - ECPv6.14.2//NONSGML v1.0//EN
CALSCALE:GREGORIAN
METHOD:PUBLISH
X-WR-CALNAME:Messalonskee High
X-ORIGINAL-URL:https://mhs.rsu18.org
X-WR-CALDESC:Events for Messalonskee High
REFRESH-INTERVAL;VALUE=DURATION:PT1H
X-Robots-Tag:noindex
X-PUBLISHED-TTL:PT1H
BEGIN:VTIMEZONE
TZID:America/New_York
BEGIN:DAYLIGHT
TZOFFSETFROM:-0500
TZOFFSETTO:-0400
TZNAME:EDT
DTSTART:20250309T070000
END:DAYLIGHT
BEGIN:STANDARD
TZOFFSETFROM:-0400
TZOFFSETTO:-0500
TZNAME:EST
DTSTART:20251102T060000
END:STANDARD
END:VTIMEZONE
BEGIN:VEVENT
DTSTART;TZID=America/New_York:20250326T190000
DTEND;TZID=America/New_York:20250326T210000
DTSTAMP:20260423T180502
CREATED:20250326T150843Z
LAST-MODIFIED:20250327T000040Z
UID:10000554-1743015600-1743022800@mhs.rsu18.org
SUMMARY:MHS and MMS Chorus Concert
DESCRIPTION:
URL:https://mhs.rsu18.org/event/mhs-and-mms-chorus-concert/
END:VEVENT
BEGIN:VEVENT
DTSTART;VALUE=DATE:20250404
DTEND;VALUE=DATE:20250405
DTSTAMP:20260423T180502
CREATED:20250404T123135Z
LAST-MODIFIED:20250404T231545Z
UID:10000560-1743724800-1743811199@mhs.rsu18.org
SUMMARY:MHS - End of Quarter 3
DESCRIPTION:
URL:https://mhs.rsu18.org/event/mhs-end-of-quarter-3/
END:VEVENT
BEGIN:VEVENT
DTSTART;VALUE=DATE:20250417
DTEND;VALUE=DATE:20250418
DTSTAMP:20260423T180502
CREATED:20250326T150843Z
LAST-MODIFIED:20250417T230015Z
UID:10000556-1744848000-1744934399@mhs.rsu18.org
SUMMARY:MHS Day of Caring
DESCRIPTION:
URL:https://mhs.rsu18.org/event/mhs-day-of-caring/
END:VEVENT
BEGIN:VEVENT
DTSTART;VALUE=DATE:20250418
DTEND;VALUE=DATE:20250419
DTSTAMP:20260423T180502
CREATED:20250326T150843Z
LAST-MODIFIED:20250418T235928Z
UID:10000555-1744934400-1745020799@mhs.rsu18.org
SUMMARY:NO SCHOOL - TEACHER COMP DAY
DESCRIPTION:
URL:https://mhs.rsu18.org/event/no-school-teacher-comp-day/
END:VEVENT
BEGIN:VEVENT
DTSTART;TZID=America/New_York:20250510T200000
DTEND;TZID=America/New_York:20250510T230000
DTSTAMP:20260423T180502
CREATED:20250429T175800Z
LAST-MODIFIED:20250511T020056Z
UID:10000561-1746907200-1746918000@mhs.rsu18.org
SUMMARY:MHS Junior / Senior Prom 2025
DESCRIPTION:For more information\, please call our main office.
URL:https://mhs.rsu18.org/event/mhs-junior-senior-prom-2025/
END:VEVENT
BEGIN:VEVENT
DTSTART;VALUE=DATE:20250513
DTEND;VALUE=DATE:20250514
DTSTAMP:20260423T180502
CREATED:20250326T150843Z
LAST-MODIFIED:20250513T231229Z
UID:10000557-1747094400-1747180799@mhs.rsu18.org
SUMMARY:EARLY RELEASE
DESCRIPTION:
URL:https://mhs.rsu18.org/event/early-release/
END:VEVENT
BEGIN:VEVENT
DTSTART;TZID=America/New_York:20250521T183000
DTEND;TZID=America/New_York:20250521T203000
DTSTAMP:20260423T180502
CREATED:20250326T150843Z
LAST-MODIFIED:20250522T001613Z
UID:10000558-1747852200-1747859400@mhs.rsu18.org
SUMMARY:MHS Band and Chorus Concert + Music Awards
DESCRIPTION:
URL:https://mhs.rsu18.org/event/mhs-band-and-chorus-concert-music-awards/
END:VEVENT
BEGIN:VEVENT
DTSTART;VALUE=DATE:20250526
DTEND;VALUE=DATE:20250527
DTSTAMP:20260423T180502
CREATED:20250326T150844Z
LAST-MODIFIED:20250526T235744Z
UID:10000559-1748217600-1748303999@mhs.rsu18.org
SUMMARY:NO SCHOOL - HOLIDAY
DESCRIPTION:
URL:https://mhs.rsu18.org/event/no-school-holiday/
END:VEVENT
BEGIN:VEVENT
DTSTART;TZID=America/New_York:20250601T130000
DTEND;TZID=America/New_York:20250601T140000
DTSTAMP:20260423T180502
CREATED:20250530T143023Z
LAST-MODIFIED:20250601T175857Z
UID:10000562-1748782800-1748786400@mhs.rsu18.org
SUMMARY:BACCALAUREATE
DESCRIPTION:
URL:https://mhs.rsu18.org/event/baccalaureate/
END:VEVENT
BEGIN:VEVENT
DTSTART;TZID=America/New_York:20250601T140000
DTEND;TZID=America/New_York:20250601T150000
DTSTAMP:20260423T180502
CREATED:20250530T143024Z
LAST-MODIFIED:20250601T185902Z
UID:10000563-1748786400-1748790000@mhs.rsu18.org
SUMMARY:SENIOR AWARDS BANQUET
DESCRIPTION:Invitations were mailed mid-May.
URL:https://mhs.rsu18.org/event/senior-awards-banquet/
END:VEVENT
BEGIN:VEVENT
DTSTART;TZID=America/New_York:20250602T180000
DTEND;TZID=America/New_York:20250602T190000
DTSTAMP:20260423T180502
CREATED:20250530T143024Z
LAST-MODIFIED:20250602T225952Z
UID:10000564-1748887200-1748890800@mhs.rsu18.org
SUMMARY:Senior Parade
DESCRIPTION:
URL:https://mhs.rsu18.org/event/senior-parade/
END:VEVENT
BEGIN:VEVENT
DTSTART;TZID=America/New_York:20250605T190000
DTEND;TZID=America/New_York:20250605T200000
DTSTAMP:20260423T180502
CREATED:20250530T143024Z
LAST-MODIFIED:20250605T233035Z
UID:10000565-1749150000-1749153600@mhs.rsu18.org
SUMMARY:Graduation - Class of 2025
DESCRIPTION:
URL:https://mhs.rsu18.org/event/graduation-class-of-2025/
END:VEVENT
BEGIN:VEVENT
DTSTART;VALUE=DATE:20250611
DTEND;VALUE=DATE:20250612
DTSTAMP:20260423T180502
CREATED:20250609T144244Z
LAST-MODIFIED:20250611T234324Z
UID:10000567-1749600000-1749686399@mhs.rsu18.org
SUMMARY:Early Release - MHS ONLY / Finals
DESCRIPTION:
URL:https://mhs.rsu18.org/event/early-release-mhs-only-finals/
END:VEVENT
BEGIN:VEVENT
DTSTART;VALUE=DATE:20250612
DTEND;VALUE=DATE:20250613
DTSTAMP:20260423T180502
CREATED:20250609T144243Z
LAST-MODIFIED:20250612T231517Z
UID:10000566-1749686400-1749772799@mhs.rsu18.org
SUMMARY:Last day of School - Early Release
DESCRIPTION:
URL:https://mhs.rsu18.org/event/last-day-of-school-early-release/
END:VEVENT
BEGIN:VEVENT
DTSTART;TZID=America/New_York:20250826T170000
DTEND;TZID=America/New_York:20250826T180000
DTSTAMP:20260423T180502
CREATED:20250711T164543Z
LAST-MODIFIED:20250826T211354Z
UID:10000570-1756227600-1756231200@mhs.rsu18.org
SUMMARY:Freshman Open House
DESCRIPTION:
URL:https://mhs.rsu18.org/event/freshman-open-house/
END:VEVENT
BEGIN:VEVENT
DTSTART;VALUE=DATE:20250827
DTEND;VALUE=DATE:20250828
DTSTAMP:20260423T180502
CREATED:20250630T140144Z
LAST-MODIFIED:20250827T235740Z
UID:10000568-1756252800-1756339199@mhs.rsu18.org
SUMMARY:First day of School - Grade 9 ONLY
DESCRIPTION:
URL:https://mhs.rsu18.org/event/freshman-first-day/
END:VEVENT
BEGIN:VEVENT
DTSTART;VALUE=DATE:20250828
DTEND;VALUE=DATE:20250829
DTSTAMP:20260423T180502
CREATED:20250630T140145Z
LAST-MODIFIED:20250828T231256Z
UID:10000569-1756339200-1756425599@mhs.rsu18.org
SUMMARY:First day of School - All Students
DESCRIPTION:
URL:https://mhs.rsu18.org/event/all-students-begin/
END:VEVENT
BEGIN:VEVENT
DTSTART;VALUE=DATE:20250901
DTEND;VALUE=DATE:20250902
DTSTAMP:20260423T180502
CREATED:20250711T164543Z
LAST-MODIFIED:20250901T231411Z
UID:10000571-1756684800-1756771199@mhs.rsu18.org
SUMMARY:No School - Holiday
DESCRIPTION:
URL:https://mhs.rsu18.org/event/no-school-holiday-2/
END:VEVENT
BEGIN:VEVENT
DTSTART;VALUE=DATE:20250902
DTEND;VALUE=DATE:20250903
DTSTAMP:20260423T180502
CREATED:20250711T164543Z
LAST-MODIFIED:20250902T232737Z
UID:10000572-1756771200-1756857599@mhs.rsu18.org
SUMMARY:MHS Picture Day
DESCRIPTION:
URL:https://mhs.rsu18.org/event/mhs-picture-day/
END:VEVENT
BEGIN:VEVENT
DTSTART;VALUE=DATE:20250916
DTEND;VALUE=DATE:20250917
DTSTAMP:20260423T180502
CREATED:20250711T164543Z
LAST-MODIFIED:20250916T235855Z
UID:10000573-1757980800-1758067199@mhs.rsu18.org
SUMMARY:Early Release
DESCRIPTION:
URL:https://mhs.rsu18.org/event/early-release-2/
END:VEVENT
BEGIN:VEVENT
DTSTART;VALUE=DATE:20250928
DTEND;VALUE=DATE:20251005
DTSTAMP:20260423T180502
CREATED:20250711T174232Z
LAST-MODIFIED:20251004T235726Z
UID:10000586-1759017600-1759622399@mhs.rsu18.org
SUMMARY:MHS Homecoming Week - Details coming soon!
DESCRIPTION:Monday: color day (12 – royal blue\, 11 Red\, 10 white\, 9 mint green)       \nParade Monday 6pm   \nTuesday: Hawaiian vs. bikers                  \n Wednesday: Generation Day (12 senior citizens\, 11 middle aged\, 10 kids\, 9 babies)    Activity: Thursday: Pink Out (Breast Cancer Awareness)           \n\n\nFriday: Eagle Pride            
URL:https://mhs.rsu18.org/event/mhs-homecoming-week-details-coming-soon/
END:VEVENT
BEGIN:VEVENT
DTSTART;TZID=America/New_York:20251007T150000
DTEND;TZID=America/New_York:20251007T183000
DTSTAMP:20260423T180502
CREATED:20250828T144418Z
LAST-MODIFIED:20251007T214327Z
UID:10000604-1759849200-1759861800@mhs.rsu18.org
SUMMARY:Parent / Teacher Conferences
DESCRIPTION:
URL:https://mhs.rsu18.org/event/parent-teacher-conferences-5/
END:VEVENT
BEGIN:VEVENT
DTSTART;TZID=America/New_York:20251007T170000
DTEND;TZID=America/New_York:20251007T180000
DTSTAMP:20260423T180502
CREATED:20250902T175741Z
LAST-MODIFIED:20251007T214327Z
UID:10000606-1759856400-1759860000@mhs.rsu18.org
SUMMARY:Senior Parent Night - Hosted by MHS Guidance Department
DESCRIPTION:
URL:https://mhs.rsu18.org/event/senior-parent-night-hosted-by-mhs-guidance-department/
END:VEVENT
BEGIN:VEVENT
DTSTART;TZID=America/New_York:20251008T160000
DTEND;TZID=America/New_York:20251008T190000
DTSTAMP:20260423T180502
CREATED:20250828T144418Z
LAST-MODIFIED:20251008T215851Z
UID:10000605-1759939200-1759950000@mhs.rsu18.org
SUMMARY:Parent / Teacher Conferences
DESCRIPTION:
URL:https://mhs.rsu18.org/event/parent-teacher-conferences-6/
END:VEVENT
BEGIN:VEVENT
DTSTART;VALUE=DATE:20251009
DTEND;VALUE=DATE:20251010
DTSTAMP:20260423T180502
CREATED:20250711T164544Z
LAST-MODIFIED:20251009T234448Z
UID:10000575-1759968000-1760054399@mhs.rsu18.org
SUMMARY:MHS Flu Clinic
DESCRIPTION:
URL:https://mhs.rsu18.org/event/mhs-flu-clinic/
END:VEVENT
BEGIN:VEVENT
DTSTART;TZID=America/New_York:20251009T160000
DTEND;TZID=America/New_York:20251009T190000
DTSTAMP:20260423T180502
CREATED:20250711T164544Z
LAST-MODIFIED:20250822T121308Z
UID:10000576-1760025600-1760036400@mhs.rsu18.org
SUMMARY:Parent / Teacher Conferences
DESCRIPTION:
URL:https://mhs.rsu18.org/event/parent-teacher-conferences-2/
END:VEVENT
BEGIN:VEVENT
DTSTART;VALUE=DATE:20251010
DTEND;VALUE=DATE:20251011
DTSTAMP:20260423T180502
CREATED:20250711T164544Z
LAST-MODIFIED:20251010T232826Z
UID:10000577-1760054400-1760140799@mhs.rsu18.org
SUMMARY:No School - Teacher Comp Day
DESCRIPTION:
URL:https://mhs.rsu18.org/event/no-school-teacher-comp-day-2/
END:VEVENT
BEGIN:VEVENT
DTSTART;VALUE=DATE:20251013
DTEND;VALUE=DATE:20251014
DTSTAMP:20260423T180502
CREATED:20250711T174233Z
LAST-MODIFIED:20251013T234321Z
UID:10000587-1760313600-1760399999@mhs.rsu18.org
SUMMARY:No School - Holiday
DESCRIPTION:
URL:https://mhs.rsu18.org/event/no-school-holiday-3/
END:VEVENT
BEGIN:VEVENT
DTSTART;VALUE=DATE:20251014
DTEND;VALUE=DATE:20251015
DTSTAMP:20260423T180502
CREATED:20250902T175741Z
LAST-MODIFIED:20251014T235851Z
UID:10000607-1760400000-1760486399@mhs.rsu18.org
SUMMARY:MHS Picture Retake Day
DESCRIPTION:
URL:https://mhs.rsu18.org/event/mhs-picture-retake-day/
END:VEVENT
BEGIN:VEVENT
DTSTART;VALUE=DATE:20251031
DTEND;VALUE=DATE:20251101
DTSTAMP:20260423T180502
CREATED:20250711T164544Z
LAST-MODIFIED:20251031T232750Z
UID:10000578-1761868800-1761955199@mhs.rsu18.org
SUMMARY:MHS - Quarter 1 ends
DESCRIPTION:
URL:https://mhs.rsu18.org/event/mhs-quarter-1-ends/
END:VEVENT
END:VCALENDAR