BEGIN:VCALENDAR
VERSION:2.0
PRODID:-//Messalonskee High - ECPv6.14.2//NONSGML v1.0//EN
CALSCALE:GREGORIAN
METHOD:PUBLISH
X-WR-CALNAME:Messalonskee High
X-ORIGINAL-URL:https://mhs.rsu18.org
X-WR-CALDESC:Events for Messalonskee High
REFRESH-INTERVAL;VALUE=DURATION:PT1H
X-Robots-Tag:noindex
X-PUBLISHED-TTL:PT1H
BEGIN:VTIMEZONE
TZID:America/New_York
BEGIN:DAYLIGHT
TZOFFSETFROM:-0500
TZOFFSETTO:-0400
TZNAME:EDT
DTSTART:20260308T070000
END:DAYLIGHT
BEGIN:STANDARD
TZOFFSETFROM:-0400
TZOFFSETTO:-0500
TZNAME:EST
DTSTART:20261101T060000
END:STANDARD
END:VTIMEZONE
BEGIN:VEVENT
DTSTART;VALUE=DATE:20260126
DTEND;VALUE=DATE:20260127
DTSTAMP:20260425T193015
CREATED:20250711T174234Z
LAST-MODIFIED:20260126T232822Z
UID:10000597-1769385600-1769471999@mhs.rsu18.org
SUMMARY:No School - Teacher Workshop
DESCRIPTION:
URL:https://mhs.rsu18.org/event/no-school-teacher-workshop/
END:VEVENT
BEGIN:VEVENT
DTSTART;TZID=America/New_York:20260210T173000
DTEND;TZID=America/New_York:20260210T190000
DTSTAMP:20260425T193015
CREATED:20260122T175748Z
LAST-MODIFIED:20260210T234507Z
UID:10000617-1770744600-1770750000@mhs.rsu18.org
SUMMARY:Curriculum Night
DESCRIPTION:
URL:https://mhs.rsu18.org/event/curriculum-night/
END:VEVENT
BEGIN:VEVENT
DTSTART;TZID=America/New_York:20260212T183000
DTEND;TZID=America/New_York:20260212T193000
DTSTAMP:20260425T193015
CREATED:20260210T161254Z
LAST-MODIFIED:20260213T001536Z
UID:10000620-1770921000-1770924600@mhs.rsu18.org
SUMMARY:MHS Cabaret Night - $3.00 for children\, students and staff and $5.00 for community members
DESCRIPTION:The Music Department’s Annual Cabaret Night is taking place this Thursday\, February 12th\, at 6:30pm in the MHS cafeteria! \nCome on out and enjoy an evening of wonderful live music – solos\, duets\, small group acts\, and bands will be performing! \nThere will also be a dessert bar!\nAdmission is $3.00 for children\, students and staff and $5.00 for community members
URL:https://mhs.rsu18.org/event/mhs-cabaret-night-3-00-for-children-students-and-staff-and-5-00-for-community-members/
END:VEVENT
BEGIN:VEVENT
DTSTART;VALUE=DATE:20260216
DTEND;VALUE=DATE:20260221
DTSTAMP:20260425T193015
CREATED:20250711T174235Z
LAST-MODIFIED:20260220T230218Z
UID:10000598-1771200000-1771631999@mhs.rsu18.org
SUMMARY:No School - Winter Break
DESCRIPTION:
URL:https://mhs.rsu18.org/event/no-school-winter-break/
END:VEVENT
BEGIN:VEVENT
DTSTART;VALUE=DATE:20260223
DTEND;VALUE=DATE:20260224
DTSTAMP:20260425T193015
CREATED:20260223T124346Z
LAST-MODIFIED:20260223T231235Z
UID:10000621-1771804800-1771891199@mhs.rsu18.org
SUMMARY:No School - Snow Day #1
DESCRIPTION:
URL:https://mhs.rsu18.org/event/no-school-snow-day-1/
END:VEVENT
BEGIN:VEVENT
DTSTART;VALUE=DATE:20260303
DTEND;VALUE=DATE:20260304
DTSTAMP:20260425T193015
CREATED:20250711T174235Z
LAST-MODIFIED:20260303T231558Z
UID:10000599-1772496000-1772582399@mhs.rsu18.org
SUMMARY:Early Release
DESCRIPTION:
URL:https://mhs.rsu18.org/event/early-release-5/
END:VEVENT
BEGIN:VEVENT
DTSTART;TZID=America/New_York:20260311T150000
DTEND;TZID=America/New_York:20260311T183000
DTSTAMP:20260425T193015
CREATED:20250711T164544Z
LAST-MODIFIED:20260311T221321Z
UID:10000580-1773241200-1773253800@mhs.rsu18.org
SUMMARY:Parent / Teacher Conferences
DESCRIPTION:
URL:https://mhs.rsu18.org/event/parent-teacher-conferences-3/
END:VEVENT
BEGIN:VEVENT
DTSTART;TZID=America/New_York:20260312T160000
DTEND;TZID=America/New_York:20260312T190000
DTSTAMP:20260425T193015
CREATED:20250711T164545Z
LAST-MODIFIED:20260312T220015Z
UID:10000582-1773331200-1773342000@mhs.rsu18.org
SUMMARY:Parent / Teacher Conferences
DESCRIPTION:
URL:https://mhs.rsu18.org/event/parent-teacher-conferences-4/
END:VEVENT
BEGIN:VEVENT
DTSTART;TZID=America/New_York:20260312T173000
DTEND;TZID=America/New_York:20260312T190000
DTSTAMP:20260425T193015
CREATED:20250711T164545Z
LAST-MODIFIED:20260312T220015Z
UID:10000581-1773336600-1773342000@mhs.rsu18.org
SUMMARY:Junior/Senior Parent Night (FAME)
DESCRIPTION:
URL:https://mhs.rsu18.org/event/junior-senior-parent-night-fame/
END:VEVENT
BEGIN:VEVENT
DTSTART;VALUE=DATE:20260313
DTEND;VALUE=DATE:20260314
DTSTAMP:20260425T193015
CREATED:20250711T174235Z
LAST-MODIFIED:20260313T231251Z
UID:10000600-1773360000-1773446399@mhs.rsu18.org
SUMMARY:No School - Workshop
DESCRIPTION:
URL:https://mhs.rsu18.org/event/no-school-workshop/
END:VEVENT
END:VCALENDAR