BEGIN:VCALENDAR
VERSION:2.0
PRODID:-//Messalonskee High - ECPv6.14.2//NONSGML v1.0//EN
CALSCALE:GREGORIAN
METHOD:PUBLISH
X-WR-CALNAME:Messalonskee High
X-ORIGINAL-URL:https://mhs.rsu18.org
X-WR-CALDESC:Events for Messalonskee High
REFRESH-INTERVAL;VALUE=DURATION:PT1H
X-Robots-Tag:noindex
X-PUBLISHED-TTL:PT1H
BEGIN:VTIMEZONE
TZID:America/New_York
BEGIN:DAYLIGHT
TZOFFSETFROM:-0500
TZOFFSETTO:-0400
TZNAME:EDT
DTSTART:20260308T070000
END:DAYLIGHT
BEGIN:STANDARD
TZOFFSETFROM:-0400
TZOFFSETTO:-0500
TZNAME:EST
DTSTART:20261101T060000
END:STANDARD
END:VTIMEZONE
BEGIN:VEVENT
DTSTART;TZID=America/New_York:20260321T163000
DTEND;TZID=America/New_York:20260321T210000
DTSTAMP:20260424T015855
CREATED:20260206T193059Z
LAST-MODIFIED:20260320T195847Z
UID:10000619-1774110600-1774126800@mhs.rsu18.org
SUMMARY:MHS Junior Auction
DESCRIPTION:For more information or to purchase tickets\, please contact a member of the MHS Class of 2027!
URL:https://mhs.rsu18.org/event/mhs-junior-auction/
END:VEVENT
BEGIN:VEVENT
DTSTART;TZID=America/New_York:20260325T183000
DTEND;TZID=America/New_York:20260325T203000
DTSTAMP:20260424T015855
CREATED:20260319T124257Z
LAST-MODIFIED:20260320T195847Z
UID:10000623-1774463400-1774470600@mhs.rsu18.org
SUMMARY:MHS & MMS Chorus Concert
DESCRIPTION:
URL:https://mhs.rsu18.org/event/mhs-mms-chorus-concert/
END:VEVENT
BEGIN:VEVENT
DTSTART;TZID=America/New_York:20260327T163000
DTEND;TZID=America/New_York:20260327T183000
DTSTAMP:20260424T015855
CREATED:20260112T202202Z
LAST-MODIFIED:20260327T221209Z
UID:10000616-1774629000-1774636200@mhs.rsu18.org
SUMMARY:Empty Bowls - Dinner
DESCRIPTION:$10 per person (includes a handmade bowl)
URL:https://mhs.rsu18.org/event/empty-bowls-dinner-a-show/
END:VEVENT
BEGIN:VEVENT
DTSTART;VALUE=DATE:20260403
DTEND;VALUE=DATE:20260404
DTSTAMP:20260424T015855
CREATED:20250711T164545Z
LAST-MODIFIED:20260402T164229Z
UID:10000583-1775174400-1775260799@mhs.rsu18.org
SUMMARY:MHS Quarter 3 Ends
DESCRIPTION:
URL:https://mhs.rsu18.org/event/mhs-quarter-3-ends/
END:VEVENT
END:VCALENDAR