BEGIN:VCALENDAR
VERSION:2.0
PRODID:-//Messalonskee High - ECPv6.14.2//NONSGML v1.0//EN
CALSCALE:GREGORIAN
METHOD:PUBLISH
X-WR-CALNAME:Messalonskee High
X-ORIGINAL-URL:https://mhs.rsu18.org
X-WR-CALDESC:Events for Messalonskee High
REFRESH-INTERVAL;VALUE=DURATION:PT1H
X-Robots-Tag:noindex
X-PUBLISHED-TTL:PT1H
BEGIN:VTIMEZONE
TZID:America/New_York
BEGIN:DAYLIGHT
TZOFFSETFROM:-0500
TZOFFSETTO:-0400
TZNAME:EDT
DTSTART:20260308T070000
END:DAYLIGHT
BEGIN:STANDARD
TZOFFSETFROM:-0400
TZOFFSETTO:-0500
TZNAME:EST
DTSTART:20261101T060000
END:STANDARD
END:VTIMEZONE
BEGIN:VEVENT
DTSTART;TZID=America/New_York:20260604T190000
DTEND;TZID=America/New_York:20260604T200000
DTSTAMP:20260423T133903
CREATED:20250711T174236Z
LAST-MODIFIED:20260423T164451Z
UID:10000603-1780599600-1780603200@mhs.rsu18.org
SUMMARY:Graduation - MHS Class of 2026
DESCRIPTION:Augusta Civic Center – information will be mailed home in early May.
URL:https://mhs.rsu18.org/event/graduation-mhs-class-of-2026/
END:VEVENT
BEGIN:VEVENT
DTSTART;VALUE=DATE:20260612
DTEND;VALUE=DATE:20260613
DTSTAMP:20260423T133903
CREATED:20260419T222930Z
LAST-MODIFIED:20260423T164452Z
UID:10000625-1781222400-1781308799@mhs.rsu18.org
SUMMARY:Last Day of School - Early Release
DESCRIPTION:
URL:https://mhs.rsu18.org/event/last-day-of-school-early-release-2/
END:VEVENT
END:VCALENDAR