BEGIN:VCALENDAR
VERSION:2.0
PRODID:-//Messalonskee High - ECPv6.14.2//NONSGML v1.0//EN
CALSCALE:GREGORIAN
METHOD:PUBLISH
X-WR-CALNAME:Messalonskee High
X-ORIGINAL-URL:https://mhs.rsu18.org
X-WR-CALDESC:Events for Messalonskee High
REFRESH-INTERVAL;VALUE=DURATION:PT1H
X-Robots-Tag:noindex
X-PUBLISHED-TTL:PT1H
BEGIN:VTIMEZONE
TZID:America/New_York
BEGIN:DAYLIGHT
TZOFFSETFROM:-0500
TZOFFSETTO:-0400
TZNAME:EDT
DTSTART:20250309T070000
END:DAYLIGHT
BEGIN:STANDARD
TZOFFSETFROM:-0400
TZOFFSETTO:-0500
TZNAME:EST
DTSTART:20251102T060000
END:STANDARD
END:VTIMEZONE
BEGIN:VEVENT
DTSTART;VALUE=DATE:20251209
DTEND;VALUE=DATE:20251210
DTSTAMP:20260424T061733
CREATED:20250711T174234Z
LAST-MODIFIED:20251209T235739Z
UID:10000591-1765238400-1765324799@mhs.rsu18.org
SUMMARY:Early Release
DESCRIPTION:
URL:https://mhs.rsu18.org/event/early-release-4/
END:VEVENT
BEGIN:VEVENT
DTSTART;VALUE=DATE:20251211
DTEND;VALUE=DATE:20251212
DTSTAMP:20260424T061733
CREATED:20250912T115711Z
LAST-MODIFIED:20251211T234438Z
UID:10000608-1765411200-1765497599@mhs.rsu18.org
SUMMARY:MHS Dental Clinic
DESCRIPTION:
URL:https://mhs.rsu18.org/event/mhs-dental-clinic/
END:VEVENT
BEGIN:VEVENT
DTSTART;VALUE=DATE:20251212
DTEND;VALUE=DATE:20251213
DTSTAMP:20260424T061733
CREATED:20250912T115711Z
LAST-MODIFIED:20251212T235718Z
UID:10000609-1765497600-1765583999@mhs.rsu18.org
SUMMARY:MHS Dental Clinic
DESCRIPTION:FMI please reach out to Ms. Murphy
URL:https://mhs.rsu18.org/event/mhs-dental-clinic-2/
END:VEVENT
BEGIN:VEVENT
DTSTART;TZID=America/New_York:20251212T190000
DTEND;TZID=America/New_York:20251212T210000
DTSTAMP:20260424T061733
CREATED:20251125T184248Z
LAST-MODIFIED:20251213T015732Z
UID:10000612-1765566000-1765573200@mhs.rsu18.org
SUMMARY:MHS Players' Present: It's a Wonderful Life ~ A Live Radio Play
DESCRIPTION:Open to the public \n$10 adults\n$5 Students\nChildren under 12 and seniors – Free
URL:https://mhs.rsu18.org/event/mhs-players-present-its-a-wonderful-life-a-live-radio-play/
END:VEVENT
BEGIN:VEVENT
DTSTART;TZID=America/New_York:20251213T190000
DTEND;TZID=America/New_York:20251213T210000
DTSTAMP:20260424T061733
CREATED:20251125T184248Z
LAST-MODIFIED:20251214T012718Z
UID:10000613-1765652400-1765659600@mhs.rsu18.org
SUMMARY:MHS Players' Present: It's a Wonderful Life ~ A Live Radio Play
DESCRIPTION:Open to the public \n$10 adults\n$5 Students\nChildren under 12 and seniors – Free
URL:https://mhs.rsu18.org/event/mhs-players-present-its-a-wonderful-life-a-live-radio-play-2/
END:VEVENT
BEGIN:VEVENT
DTSTART;TZID=America/New_York:20251214T140000
DTEND;TZID=America/New_York:20251214T160000
DTSTAMP:20260424T061733
CREATED:20251125T184249Z
LAST-MODIFIED:20251214T204256Z
UID:10000614-1765720800-1765728000@mhs.rsu18.org
SUMMARY:MHS Players' Present: It's a Wonderful Life ~ A Live Radio Play
DESCRIPTION:Open to the public \n$10 adults\n$5 Students\nChildren under 12 and seniors – Free
URL:https://mhs.rsu18.org/event/mhs-players-present-its-a-wonderful-life-a-live-radio-play-3/
END:VEVENT
END:VCALENDAR