BEGIN:VCALENDAR
VERSION:2.0
PRODID:-//Messalonskee High - ECPv6.14.2//NONSGML v1.0//EN
CALSCALE:GREGORIAN
METHOD:PUBLISH
X-ORIGINAL-URL:https://mhs.rsu18.org
X-WR-CALDESC:Events for Messalonskee High
REFRESH-INTERVAL;VALUE=DURATION:PT1H
X-Robots-Tag:noindex
X-PUBLISHED-TTL:PT1H
BEGIN:VTIMEZONE
TZID:America/New_York
BEGIN:DAYLIGHT
TZOFFSETFROM:-0500
TZOFFSETTO:-0400
TZNAME:EDT
DTSTART:20250309T070000
END:DAYLIGHT
BEGIN:STANDARD
TZOFFSETFROM:-0400
TZOFFSETTO:-0500
TZNAME:EST
DTSTART:20251102T060000
END:STANDARD
END:VTIMEZONE
BEGIN:VEVENT
DTSTART;TZID=America/New_York:20251217T183000
DTEND;TZID=America/New_York:20251217T203000
DTSTAMP:20260424T044204
CREATED:20250711T174234Z
LAST-MODIFIED:20251216T231623Z
UID:10000592-1765996200-1766003400@mhs.rsu18.org
SUMMARY:Holiday HS Chorus & Band Concert
DESCRIPTION:
URL:https://mhs.rsu18.org/event/holiday-hs-chorus-band-concert/
END:VEVENT
END:VCALENDAR